BEGIN:VCALENDAR
VERSION:2.0
PRODID:www.gruene-dornberg.de
METHOD:PUBLISH
BEGIN:VTIMEZONE
TZID:Europe/Berlin
X-LIC-LOCATION:Europe/Berlin
BEGIN:DAYLIGHT
TZOFFSETFROM:+0100
TZOFFSETTO:+0200
TZNAME:CEST
DTSTART:19700329T020000
RRULE:FREQ=YEARLY;INTERVAL=1;BYDAY=-1SU;BYMONTH=3
END:DAYLIGHT
BEGIN:STANDARD
TZOFFSETFROM:+0200
TZOFFSETTO:+0100
TZNAME:CET
DTSTART:19701025T030000
RRULE:FREQ=YEARLY;INTERVAL=1;BYDAY=-1SU;BYMONTH=10
END:STANDARD
END:VTIMEZONE
BEGIN:VEVENT
UID:5fb7e013853d855057b71640410ebfe3@www.gruene-dornberg.de
URL;VALUE=URI:https://www.gruene-dornberg.de/termine/waldspaziergang/
LOCATION:
SUMMARY:Waldspaziergang
DESCRIPTION;ALTREP="data:text/html,%0A%3Cp%3EAm%2026.%20Mai%202024%20habe
 n%20wir%20wieder%20einen%20Waldspaziergang%20organisiert%21%3C%2Fp%3E%0A%
 0A%0A%0A%3Cp%3EDabei%20soll%20es%20um%20das%20Thema%20-%20%3Cstrong%3EWal
 d%20und%20Klimaschutz%2C%20auch%20in%20unserem%20Alltag%3C%2Fstrong%3E%20
 -%20gehen.%3C%2Fp%3E%0A%0A%0A%0A%3Cp%3EDieter%20Wortmeier%2C%20zust%C3%A4
 ndiger%20F%C3%B6rster%20in%20Bielefeld%20wird%20die%20F%C3%BChrung%20%C3%
 BCbernehmen.%20Andreas%20Wiebe%2C%20gr%C3%BCner%20ehemaliger%20Leiter%20d
 es%20Landesbetrieb%20Wald%20und%20Holz%20Nordrhein%20%E2%80%93%20Westfane
 n%20wird%20an%20F%C3%BChrung%20und%20Diskussion%20teilnehmen.%3C%2Fp%3E%0
 A%0A%0A%0A%3Cp%3EStart%3A%2011%3A00%20-%20Bielefeld%2C%20Parkplatz%20Gast
 st%C3%A4tte%20%22Schwedenfrieden%22%3C%2Fp%3E%0A":Am 26. Mai 2024 haben w
 ir wieder einen Waldspaziergang organisiert!\n\nDabei soll es um das Them
 a - Wald und Klimaschutz\, auch in unserem Alltag - gehen.\n\nDieter Wort
 meier\, zuständiger Förster in Bielefeld wird die Führung übernehmen.
  Andreas Wiebe\, grüner ehemaliger Leiter des Landesbetrieb Wald und Hol
 z Nordrhein – Westfanen wird an Führung und Diskussion teilnehmen.\n\n
 Start: 11:00 - Bielefeld\, Parkplatz Gaststätte "Schwedenfrieden"
CLASS:PUBLIC
DTSTART;TZID=Europe/Berlin:20240526T110000
DTEND;TZID=Europe/Berlin:20240526T123000
DTSTAMP:20260421T093943
END:VEVENT
END:VCALENDAR